BEGIN:VCALENDAR
VERSION:2.0
PRODID:-//ASEAN Cooperation on Environment - ECPv5.1.6//NONSGML v1.0//EN
CALSCALE:GREGORIAN
METHOD:PUBLISH
X-WR-CALNAME:ASEAN Cooperation on Environment
X-ORIGINAL-URL:https://environment.asean.org
X-WR-CALDESC:Events for ASEAN Cooperation on Environment
BEGIN:VTIMEZONE
TZID:Asia/Jakarta
BEGIN:STANDARD
TZOFFSETFROM:+0700
TZOFFSETTO:+0700
TZNAME:WIB
DTSTART:20160101T000000
END:STANDARD
END:VTIMEZONE
BEGIN:VEVENT
DTSTART;VALUE=DATE:20160811
DTEND;VALUE=DATE:20160812
DTSTAMP:20210604T145245
CREATED:20160427T043507Z
LAST-MODIFIED:20160427T043507Z
UID:35719-1470873600-1470959999@environment.asean.org
SUMMARY:12th Meeting of Conference of Parties to Haze Agreement (COP-12)
DESCRIPTION:
URL:https://environment.asean.org/event/12th-meeting-of-conference-of-parties-to-haze-agreement-cop-12/
LOCATION:Kuala Lumpur\, Malaysia\, Malaysia
END:VEVENT
END:VCALENDAR